BEGIN:VCALENDAR
VERSION:2.0
PRODID:-//Gravel-Leipzig - ECPv6.8.2.1//NONSGML v1.0//EN
CALSCALE:GREGORIAN
METHOD:PUBLISH
X-WR-CALNAME:Gravel-Leipzig
X-ORIGINAL-URL:https://www.gravel-leipzig.de
X-WR-CALDESC:Veranstaltungen für Gravel-Leipzig
REFRESH-INTERVAL;VALUE=DURATION:PT1H
X-Robots-Tag:noindex
X-PUBLISHED-TTL:PT1H
BEGIN:VTIMEZONE
TZID:Europe/Berlin
BEGIN:DAYLIGHT
TZOFFSETFROM:+0100
TZOFFSETTO:+0200
TZNAME:CEST
DTSTART:20240331T010000
END:DAYLIGHT
BEGIN:STANDARD
TZOFFSETFROM:+0200
TZOFFSETTO:+0100
TZNAME:CET
DTSTART:20241027T010000
END:STANDARD
END:VTIMEZONE
BEGIN:VEVENT
DTSTART;VALUE=DATE:20240727
DTEND;VALUE=DATE:20240728
DTSTAMP:20260422T004513
CREATED:20240516T192107Z
LAST-MODIFIED:20240516T192107Z
UID:1019-1722038400-1722124799@www.gravel-leipzig.de
SUMMARY:Karli Grit Südvorstadt
DESCRIPTION:
URL:https://www.gravel-leipzig.de/event/karli-grit-suedvorstadt/
LOCATION:Ecke Hafenbar Südplatz\, Kochstraße 4\, Leipzig\, Sachsen\, 04275\, Deutschland
ORGANIZER;CN="Gravel Leipzig e.V.":MAILTO:info@gravel-leipzig.de
END:VEVENT
END:VCALENDAR