BEGIN:VCALENDAR
VERSION:2.0
PRODID:-//Gravel-Leipzig - ECPv6.8.2.1//NONSGML v1.0//EN
CALSCALE:GREGORIAN
METHOD:PUBLISH
X-ORIGINAL-URL:https://www.gravel-leipzig.de
X-WR-CALDESC:Veranstaltungen für Gravel-Leipzig
REFRESH-INTERVAL;VALUE=DURATION:PT1H
X-Robots-Tag:noindex
X-PUBLISHED-TTL:PT1H
BEGIN:VTIMEZONE
TZID:Europe/Berlin
BEGIN:DAYLIGHT
TZOFFSETFROM:+0100
TZOFFSETTO:+0200
TZNAME:CEST
DTSTART:20240331T010000
END:DAYLIGHT
BEGIN:STANDARD
TZOFFSETFROM:+0200
TZOFFSETTO:+0100
TZNAME:CET
DTSTART:20241027T010000
END:STANDARD
END:VTIMEZONE
BEGIN:VEVENT
DTSTART;TZID=Europe/Berlin:20241107T191500
DTEND;TZID=Europe/Berlin:20241107T204500
DTSTAMP:20260421T180201
CREATED:20241023T072255Z
LAST-MODIFIED:20241023T074448Z
UID:1538-1731006900-1731012300@www.gravel-leipzig.de
SUMMARY:Grupetto Schrauberworkshop
DESCRIPTION:Gemeinsam schrauben\, gemeinsam fahren und die Erste-Hilfe Fähigkeiten bei einer Panne ausbauen!\n\nDu möchtest dein Gravelbike besser kennenlernen\, selbst Hand anlegen und kleinere Wartungen auf eigene Faust durchführen? Dann bist du bei unserem Bikeworkshop genau richtig!\nGemeinsam mit den erfahrenen Mechanikerinnen und Mechanikern von Grupetto wird sich einen Abend alles ums Schrauben am Gravelbike drehen. Neben ein paar allgemeinen Tipps und Ratschlägen soll es vor allem um Eure Fragestellungen gehen.\nDamit wir den Abend inhaltlich vorbereiten können\, sende uns gern deine Fragen- & Themenbereiche an „info@gravel-leipzig.de“.\n\nPreis: 5€\n\nAnmeldung ist erst gültig nach Überweisung der Gebühr über\n\nhttps://www.PayPal.me/WerkstattWorkshop
URL:https://www.gravel-leipzig.de/event/grupetto-schrauberworkshop/
LOCATION:Werkstatt Grupetto Leipzig\, Elsterstraße 65\, Leipzig\, 04109\, Deutschland
ORGANIZER;CN="Gravel Leipzig e.V.":MAILTO:info@gravel-leipzig.de
END:VEVENT
END:VCALENDAR