BEGIN:VCALENDAR
VERSION:2.0
PRODID:-//Gravel-Leipzig - ECPv6.8.2.1//NONSGML v1.0//EN
CALSCALE:GREGORIAN
METHOD:PUBLISH
X-WR-CALNAME:Gravel-Leipzig
X-ORIGINAL-URL:https://www.gravel-leipzig.de
X-WR-CALDESC:Veranstaltungen für Gravel-Leipzig
REFRESH-INTERVAL;VALUE=DURATION:PT1H
X-Robots-Tag:noindex
X-PUBLISHED-TTL:PT1H
BEGIN:VTIMEZONE
TZID:Europe/Berlin
BEGIN:DAYLIGHT
TZOFFSETFROM:+0100
TZOFFSETTO:+0200
TZNAME:CEST
DTSTART:20240331T010000
END:DAYLIGHT
BEGIN:STANDARD
TZOFFSETFROM:+0200
TZOFFSETTO:+0100
TZNAME:CET
DTSTART:20241027T010000
END:STANDARD
END:VTIMEZONE
BEGIN:VEVENT
DTSTART;TZID=Europe/Berlin:20241124T110000
DTEND;TZID=Europe/Berlin:20241124T150000
DTSTAMP:20260421T180031
CREATED:20241111T101805Z
LAST-MODIFIED:20241111T101805Z
UID:1702-1732446000-1732460400@www.gravel-leipzig.de
SUMMARY:Gravel.Leipzig - community ride + FLINTA
DESCRIPTION:
URL:https://www.gravel-leipzig.de/event/gravel-leipzig-community-ride-flinta/
LOCATION:Ecke Hafenbar Südplatz\, Kochstraße 4\, Leipzig\, Sachsen\, 04275\, Deutschland
END:VEVENT
END:VCALENDAR