BEGIN:VCALENDAR
VERSION:2.0
PRODID:-//Gravel-Leipzig - ECPv6.8.2.1//NONSGML v1.0//EN
CALSCALE:GREGORIAN
METHOD:PUBLISH
X-WR-CALNAME:Gravel-Leipzig
X-ORIGINAL-URL:https://www.gravel-leipzig.de
X-WR-CALDESC:Veranstaltungen für Gravel-Leipzig
REFRESH-INTERVAL;VALUE=DURATION:PT1H
X-Robots-Tag:noindex
X-PUBLISHED-TTL:PT1H
BEGIN:VTIMEZONE
TZID:Europe/Berlin
BEGIN:DAYLIGHT
TZOFFSETFROM:+0100
TZOFFSETTO:+0200
TZNAME:CEST
DTSTART:20240331T010000
END:DAYLIGHT
BEGIN:STANDARD
TZOFFSETFROM:+0200
TZOFFSETTO:+0100
TZNAME:CET
DTSTART:20241027T010000
END:STANDARD
END:VTIMEZONE
BEGIN:VEVENT
DTSTART;TZID=Europe/Berlin:20241129T180000
DTEND;TZID=Europe/Berlin:20241129T200000
DTSTAMP:20260421T162621
CREATED:20241127T102741Z
LAST-MODIFIED:20241127T102924Z
UID:1762-1732903200-1732910400@www.gravel-leipzig.de
SUMMARY:Critical Mass Leipzig
DESCRIPTION:
URL:https://www.gravel-leipzig.de/event/critical-mass-leipzig/
LOCATION:Augustusplatz Leipzig\, Augustusplatz\, Leipzig\, 04109\, Germany
END:VEVENT
END:VCALENDAR